BEGIN:VCALENDAR
VERSION:2.0
PRODID:-//eventon.com NONSGML v1.0//EN
CALSCALE:GREGORIAN
METHOD:PUBLISH
BEGIN:VEVENT
UID:69e7330fd7605
DTSTAMP:20260421T101927
DTSTART:20250514T180000Z
DTEND:20250514T193000Z
TZID:Africa/Abidjan
LOCATION:
SUMMARY:Bibliaiskola Ádám Miklós atyával III.
DESCRIPTION:Az „írás vallásai” számára a szövegek normatívak\,  annak ellenére\,  hogy tudatában vagyunk\,  hogy egy igen jól körülhatárolható\,  és a miénktől jelentősen különböző kor\,  kultúra és nyelv dokumentumaira alapozzuk az életünket. Hogyan lehetséges\,  mit jelent\,  hogy a szöveg szerzői\,  ill. maguk a szövegek sugalmazottak? Mit kezdjünk ennek megfelelően a nyilvánvaló tárgyi[..]\nhttps://kulturalisszalon.hu/events/bibliaiskola/
URL:https://kulturalisszalon.hu/events/bibliaiskola/
END:VEVENT
END:VCALENDAR