BEGIN:VCALENDAR
VERSION:2.0
PRODID:-//eventon.com NONSGML v1.0//EN
CALSCALE:GREGORIAN
METHOD:PUBLISH
BEGIN:VEVENT
UID:69e4d2228c87d
DTSTAMP:20260419T150122
DTSTART:20241026T170000Z
DTEND:20241026T180000Z
TZID:UTC
LOCATION:
SUMMARY:Petőfi-Kacsóh: János vitéz előadás
DESCRIPTION:A Művészház Társulat előadása az eredeti daljáték rövidített változata\,  mely az egész történetet átöleli\,  és valamennyi szereplő népszerű dallamait tartalmazza. Az összekötő részek Kacsóh Pongrác zenéje alatt Petőfi Sándor soraival egészülnek ki. A daljáték első része falusi életkép keretében a két fiatal románcát megsemmisítő intrikát\,  a második a francia királyi[..]\nhttps://kulturalisszalon.hu/events/petofi-kacsoh-janos-vitez-eloadas/
URL:https://kulturalisszalon.hu/events/petofi-kacsoh-janos-vitez-eloadas/
END:VEVENT
END:VCALENDAR