BEGIN:VCALENDAR
VERSION:2.0
PRODID:-//eventon.com NONSGML v1.0//EN
CALSCALE:GREGORIAN
METHOD:PUBLISH
BEGIN:VEVENT
UID:69ec9815f419c
DTSTAMP:20260425T123149
DTSTART:20240509T153000Z
DTEND:20240509T170000Z
TZID:UTC
LOCATION:
SUMMARY:Egészségmegőrzés - Művészetterápia Alzheimer-kórban
DESCRIPTION:Művészetterápia Alzheimer-kórban &#8222;A művészetek az érzelmeken keresztül is hatnak a tudatra\,  ablakot nyitnak a szellemi készségek beszűkülése esetén is\,  segítenek emlékezni. A festészet\,  a zene\,  a költészet szerepét ismertetem előadásomban.&#8221; A rendezvény háziasszonya Kocsis Judit\,  idősügyi referens Alzheimer Café a Hegyvidéken előadás-sorozata 1000 Ft hegyvidéki kedvezmény nélkül dr. Boga Bálint\,  belgyógyász\, [..]\nhttps://kulturalisszalon.hu/events/egeszsegmegorzes-3/
URL:https://kulturalisszalon.hu/events/egeszsegmegorzes-3/
END:VEVENT
END:VCALENDAR