BEGIN:VCALENDAR
VERSION:2.0
PRODID:-//eventon.com NONSGML v1.0//EN
CALSCALE:GREGORIAN
METHOD:PUBLISH
BEGIN:VEVENT
UID:69ecf30f75e27
DTSTAMP:20260425T185959
DTSTART:20240416T190000Z
DTEND:20240416T210000Z
TZID:UTC
LOCATION:
SUMMARY:JUHÁSZ ANNA IRODALMI SZALON #157.
DESCRIPTION:Vendégek: Hegedűs Gyöngyi költő\,  orvos Balla Gergely zenész\,  dalszerző (Platon Karataev) Visky András író\,  drámaíró\,  egyetemi tanár Závada Péter költő\,  drámaíró Hegedűs Gyöngyi költő\,  aki leginkább az intellektuális költészet elszánt és elhívott művelője – mondja róla Visky András –\,  2022. májusában volt a Szalon vendége első verseskötete (a pont felett)[..]\nhttps://kulturalisszalon.hu/events/juhasz-anna-irodalmi-szalon-157/
URL:https://kulturalisszalon.hu/events/juhasz-anna-irodalmi-szalon-157/
END:VEVENT
END:VCALENDAR