BEGIN:VCALENDAR
VERSION:2.0
PRODID:-//eventon.com NONSGML v1.0//EN
CALSCALE:GREGORIAN
METHOD:PUBLISH
BEGIN:VEVENT
UID:69e4d399a562f
DTSTAMP:20260419T150737
DTSTART:20240418T143000Z
DTEND:20240418T160000Z
TZID:Europe/Budapest
LOCATION:
SUMMARY:Kíváncsi Kata: A Tiltott Város
DESCRIPTION:A pekingi császári palota kapuja csak a XX. században tárult fel. A Palotaegyüttes igazi építészeti remekmű\,  a kínai vallást és filozófia elveit\,  a császári hatalmat és örökkévalóságot közvetíti. Épületegyüttesében összesen 24 Ming és Csing császár uralkodott\,  több mint 500 éven át\,  egészen 1911-ig a polgári forradalom kitöréséig\,  a Kínai Köztársaság[..]\nhttps://kulturalisszalon.hu/events/kivancsi-kata-a-tiltott-varos/
URL:https://kulturalisszalon.hu/events/kivancsi-kata-a-tiltott-varos/
END:VEVENT
END:VCALENDAR