BEGIN:VCALENDAR
VERSION:2.0
PRODID:-//eventon.com NONSGML v1.0//EN
CALSCALE:GREGORIAN
METHOD:PUBLISH
BEGIN:VEVENT
UID:69ecf31524db3
DTSTAMP:20260425T190005
DTSTART:20240125T190000Z
DTEND:20240125T203000Z
TZID:Europe/Budapest
LOCATION:
SUMMARY:Juhász Anna -  Irodalmi Szalon #154
DESCRIPTION:Új helyszínen a Juhász Anna Irodalmi Szalon A Bartók Béla útról a Hegyvidékre költözik az első budapesti irodalmi közösség. A 2010. novemberében alapított\,  budapesti székhelyű irodalmi műhely\,  a Juhász Anna Irodalmi Szalon 2024. januárjában új helyszínre költözik. A népszerű irodalmi\,  összművészeti sorozat 154. budapesti estjét már a Hegyvidéken köszönti a[..]\nhttps://kulturalisszalon.hu/events/juhasz-anna-irodalmi-szalon-154/
URL:https://kulturalisszalon.hu/events/juhasz-anna-irodalmi-szalon-154/
END:VEVENT
END:VCALENDAR