BEGIN:VCALENDAR
VERSION:2.0
PRODID:-//eventon.com NONSGML v1.0//EN
CALSCALE:GREGORIAN
METHOD:PUBLISH
BEGIN:VEVENT
UID:69ead6a2a76ae
DTSTAMP:20260424T043410
DTSTART:20231010T180000Z
DTEND:20231010T200000Z
TZID:Europe/Budapest
LOCATION:
SUMMARY:Algéria: Utazás a Szahara szívébe
DESCRIPTION:Milyen az élet a Szahara rejtett oázisaiban? Milyen meséket mesélnek a tueregek? Milyen különleges történeti kincseket rejt Algéria? Milyen a fúziós magrebi konyha? Október elején Dr. Lassányi Gábor\,  régész\,  túravezető Afrika legnagyobb országába kalauzolja el a Szalon látogatóit. Az előadás során bejárjuk Algír nyüzsgő utcáit\,  Észak-Algéria ókori romvárosait\,  felkeressük Kleopátra[..]\nhttps://kulturalisszalon.hu/events/algeria-utazas-a-szahara-szivebe/
URL:https://kulturalisszalon.hu/events/algeria-utazas-a-szahara-szivebe/
END:VEVENT
END:VCALENDAR