BEGIN:VCALENDAR
VERSION:2.0
PRODID:-//eventon.com NONSGML v1.0//EN
CALSCALE:GREGORIAN
METHOD:PUBLISH
BEGIN:VEVENT
UID:69e9dee437e66
DTSTAMP:20260423T105708
DTSTART:20230728T190000Z
DTEND:20230728T200000Z
TZID:Europe/Budapest
LOCATION:
SUMMARY:Zenélő Budapest
DESCRIPTION:Zenélő Budapest 2023 (július 7. &#8211; augusztus 11. – Budapest) Hegyvidéki dallamok Július 28. &#8211; Ifj. Sárközy Lajos hegedű prímás\,  Csík Gyula cimbalom Ifj. Sárközy Lajos hegedű virtuóz Budapesten született egy hét generációs zenészcsalád sarjaként. 5 évesen kezdett hegedülni. 13 éves korában felvételt nyert\,  a Liszt Ferenc Zeneművészeti Egyetem különleges[..]\nhttps://kulturalisszalon.hu/events/zenelo-budapest-39/
URL:https://kulturalisszalon.hu/events/zenelo-budapest-39/
END:VEVENT
END:VCALENDAR