BEGIN:VCALENDAR
VERSION:2.0
PRODID:-//eventon.com NONSGML v1.0//EN
CALSCALE:GREGORIAN
METHOD:PUBLISH
BEGIN:VEVENT
UID:69e4d0df8aca7
DTSTAMP:20260419T145559
DTSTART:20230126T180000Z
DTEND:20230126T193000Z
TZID:UTC
LOCATION:
SUMMARY:Irodalmi Szalon - Burns-est
DESCRIPTION:Közreműködik: Kéri György skótdudás Robert Burns a skótok legnagyobb költője. Nemzeti kulturális ikonként ünneplik Skóciában\,  és a világon szétszóródott skót közösségekben egyaránt.  Január 25.-én\,  Burns születésnapján zenés-táncos Burns-vacsorákat  rendeznek országszerte. A skót Burns-vacsorák hangulatát éljük át mi is\,  miközben a költő műveivel ismerkedünk. &nbsp; &nbsp; Közreműködik Kéri György skótdudásElőadó: Tamáska Jánosné[..]\nhttps://kulturalisszalon.hu/events/irodalmi-szalon-burns-est/
URL:https://kulturalisszalon.hu/events/irodalmi-szalon-burns-est/
END:VEVENT
END:VCALENDAR