BEGIN:VCALENDAR
VERSION:2.0
PRODID:-//eventon.com NONSGML v1.0//EN
CALSCALE:GREGORIAN
METHOD:PUBLISH
BEGIN:VEVENT
UID:69e73275c012e
DTSTAMP:20260421T101653
DTSTART:20220925T100000Z
DTEND:20220925T150000Z
TZID:UTC
LOCATION:
SUMMARY:Gesztenyenap
DESCRIPTION:10.00 Szalonszínház: Pozsgai Zsolt: A király és a szűz\,  a Magyar Kanizsai Udvari Kamaraszínház előadása 1237-ben a tatár seregek vezére küldött egy levelet IV. Bélának: „… Tudom\,  hogy gazdag és hatalmas király vagy\,  sok katonád van\,  és egyedül kormányzol egy nagy országot. Ezért nehéz önként alám vetned magadat: mégis jobb[..]\nhttps://kulturalisszalon.hu/events/hegyvideki-osz-2/
URL:https://kulturalisszalon.hu/events/hegyvideki-osz-2/
END:VEVENT
END:VCALENDAR