BEGIN:VCALENDAR
VERSION:2.0
PRODID:-//eventon.com NONSGML v1.0//EN
CALSCALE:GREGORIAN
METHOD:PUBLISH
BEGIN:VEVENT
UID:69e73330ccd8b
DTSTAMP:20260421T102000
DTSTART:20220929T103000Z
DTEND:20220929T120000Z
TZID:UTC
LOCATION:
SUMMARY:Pétanque Délelőtt a Gesztenyés kertben.
DESCRIPTION:A pétanque (ejtsd: pétank) a francia filmekből és parkokból ismert\,  nálunk eddig még kevéssé elterjedt szórakoztató golyós játék. Előképzettségre\,  különleges tudásra\,  extra állóképességre nincs szükség\,  csak egy kis jókedvre! A Gesztenyés kert árnyékos sétány ideális helyszín a játékhoz és egy kis beszélgetéshez! A foglalkozást vezeti: Sombor András Budapest Pétanque SE[..]\nhttps://kulturalisszalon.hu/events/petanque-delelott-a-gesztenyes-kertben/
URL:https://kulturalisszalon.hu/events/petanque-delelott-a-gesztenyes-kertben/
END:VEVENT
END:VCALENDAR