BEGIN:VCALENDAR
VERSION:2.0
PRODID:-//eventon.com NONSGML v1.0//EN
CALSCALE:GREGORIAN
METHOD:PUBLISH
BEGIN:VEVENT
UID:69e9e01b2bf86
DTSTAMP:20260423T110219
DTSTART:20220906T143000Z
DTEND:20220906T160000Z
TZID:UTC
LOCATION:
SUMMARY:Derűs percek Dolnával
DESCRIPTION:Romantikus és szenvedélyes spanyol zene\,  melyhez a spanyol nép dalai nyújtják az alapot. &nbsp; &nbsp; Anda\,  Jaelo!Bevezető ismertetőt mond Benyhe István író\,  geopolitikai szakértő. Közreműködők: Kővári Eszter Sára – énekművész\,  Szamosi Liza – gitárművész\,  Szlama Annamária – gitárművész Peltzer Ferenc – gitárművész Művészeti vezető: Mihalekné Kádár Magdolna magyar-ének-zene szakos tanár[..]\nhttps://kulturalisszalon.hu/events/derus-percek-dolnaval-26/
URL:https://kulturalisszalon.hu/events/derus-percek-dolnaval-26/
END:VEVENT
END:VCALENDAR