BEGIN:VCALENDAR
VERSION:2.0
PRODID:-//eventon.com NONSGML v1.0//EN
CALSCALE:GREGORIAN
METHOD:PUBLISH
BEGIN:VEVENT
UID:69e7309144633
DTSTAMP:20260421T100849
DTSTART:20220827T090000Z
DTEND:20220827T170000Z
TZID:UTC
LOCATION:
SUMMARY:Erőszakmentes kommunikáció tréning
DESCRIPTION:Szeretnéd megtanulni\,  hogyan gondoskodj saját jól létedről\,  miközben a körülötted lévőkre is odafigyelsz? TÉMAKÖRÖK Hogyan fejezd ki a nemtetszésedet őszintén és kritika nélkül. Mi rejtőzhet a bántó megjegyzések mögött? Hogyan tudod meglátni az embert bárkiben\,  függetlenül attól\,  milyen agresszíven kommunikál. Hogyan fogadd a kritikát úgy\,  hogy a legtöbbet tanulj belőle.[..]\nhttps://kulturalisszalon.hu/events/eroszakmentes-kommunikacio-trening-2/
URL:https://kulturalisszalon.hu/events/eroszakmentes-kommunikacio-trening-2/
END:VEVENT
END:VCALENDAR