BEGIN:VCALENDAR
VERSION:2.0
PRODID:-//eventon.com NONSGML v1.0//EN
CALSCALE:GREGORIAN
METHOD:PUBLISH
BEGIN:VEVENT
UID:69e732d22e981
DTSTAMP:20260421T101826
DTSTART:20220505T180000Z
DTEND:20220505T193000Z
TZID:UTC
LOCATION:
SUMMARY:A kor szelleme
DESCRIPTION:A kor szelleme – magyar dokumentumfilm 51 perc A pécsi Gandhi Gimnázium hét  tanulója Bernard Kops Café Zeitgeist című darabját próbálja. A próbák folyamán beszélgetéseken\,  helyzetgyakorlatokon keresztül megismerhetjük a problémáikat\,  érzéseiket\,  családi hátterüket. Heten &#8211; hasonló gondolatokkal\,  hasonló célokkal &#8211; kitörni vágyó gyerekek. Szereplők: Balogh Marcsi Fenyvesi Anita Ignácz Anna[..]\nhttps://kulturalisszalon.hu/events/a-kor-szelleme/
URL:https://kulturalisszalon.hu/events/a-kor-szelleme/
END:VEVENT
END:VCALENDAR