BEGIN:VCALENDAR
VERSION:2.0
PRODID:-//eventon.com NONSGML v1.0//EN
CALSCALE:GREGORIAN
METHOD:PUBLISH
BEGIN:VEVENT
UID:69e4de147cfdd
DTSTAMP:20260419T155220
DTSTART:20180915T100000Z
DTEND:20180915T180000Z
TZID:UTC
LOCATION:
SUMMARY:Arcfestés
DESCRIPTION:Az arcfestés jó móka\,  mindig biztos siker. Nagy öröm a gyerekeknek\,  hogy belebújhatnak kedvencük bőrébe\,  s így elevenedhet meg képzeletük. Igazi pillangók\,  katicák\,  pókemberek\,  tigrisek\,  hercegnők\,  virágtündérek….. lehetnek.\nhttps://kulturalisszalon.hu/events/arcfestes/
URL:https://kulturalisszalon.hu/events/arcfestes/
END:VEVENT
END:VCALENDAR