BEGIN:VCALENDAR
VERSION:2.0
PRODID:-//eventon.com NONSGML v1.0//EN
CALSCALE:GREGORIAN
METHOD:PUBLISH
BEGIN:VEVENT
UID:69e732d1a8cb7
DTSTAMP:20260421T101825
DTSTART:20200306T180000Z
DTEND:20200306T190000Z
TZID:UTC
LOCATION:
SUMMARY:Rovásírás
DESCRIPTION:Tamáska Jánosné magyartanárTamáska Jánosné magyartanár\nhttps://kulturalisszalon.hu/events/rovasiras/
URL:https://kulturalisszalon.hu/events/rovasiras/
END:VEVENT
END:VCALENDAR