BEGIN:VCALENDAR
VERSION:2.0
PRODID:-//eventon.com NONSGML v1.0//EN
CALSCALE:GREGORIAN
METHOD:PUBLISH
BEGIN:VEVENT
UID:69e732c79e442
DTSTAMP:20260421T101815
DTSTART:20200129T163000Z
DTEND:20200129T180000Z
TZID:UTC
LOCATION:
SUMMARY:Müller Rita "Selyem-fények"
DESCRIPTION:„Budapesten születtem 1974-ben\,  2000-ben végeztem szövött anyag tervezőként az Iparművészeti Egyetemen. Az anyagtervezés mellett mindig érdekelt a belső terek alakítása\,  otthonossá\,  bensőségessé tétele. Így indultam el a gobelin világától\,  találtam rá a selyemre\,  és jutottam el a kendőkön át a tértextilekig és a selyemképekig. A selyem ősi\,  nemes textilfajta\,  lágy[..]\nhttps://kulturalisszalon.hu/events/muller-rita-selyem-fenyek/
URL:https://kulturalisszalon.hu/events/muller-rita-selyem-fenyek/
END:VEVENT
END:VCALENDAR