BEGIN:VCALENDAR
VERSION:2.0
PRODID:-//eventon.com NONSGML v1.0//EN
CALSCALE:GREGORIAN
METHOD:PUBLISH
BEGIN:VEVENT
UID:69e7331e2043d
DTSTAMP:20260421T101942
DTSTART:20191213T180000Z
DTEND:20191213T190000Z
TZID:UTC
LOCATION:
SUMMARY:Mi van a rovásunkon?
DESCRIPTION:Rovásírás klub 5 alkalmas rovásírás tanfolyam. &nbsp; Rovásírás klub 5. alkalomTamáska Jánosné magyartanár\nhttps://kulturalisszalon.hu/events/mi-van-a-rovasunkon-4/
URL:https://kulturalisszalon.hu/events/mi-van-a-rovasunkon-4/
END:VEVENT
END:VCALENDAR