BEGIN:VCALENDAR
VERSION:2.0
PRODID:-//eventon.com NONSGML v1.0//EN
CALSCALE:GREGORIAN
METHOD:PUBLISH
BEGIN:VEVENT
UID:69e732b3683d6
DTSTAMP:20260421T101755
DTSTART:20190515T140000Z
DTEND:20190515T153000Z
TZID:UTC
LOCATION:
SUMMARY:Szalonegyetem
DESCRIPTION:A tájfestészet története az Ókortól napjainkigElőadó: Gimesy Péter művészettörténész\,  filozófus\nhttps://kulturalisszalon.hu/events/szalonegyetem-15/
URL:https://kulturalisszalon.hu/events/szalonegyetem-15/
END:VEVENT
END:VCALENDAR