BEGIN:VCALENDAR
VERSION:2.0
PRODID:-//eventon.com NONSGML v1.0//EN
CALSCALE:GREGORIAN
METHOD:PUBLISH
BEGIN:VEVENT
UID:69e7326e75884
DTSTAMP:20260421T101646
DTSTART:20190313T140000Z
DTEND:20190313T153000Z
TZID:UTC
LOCATION:
SUMMARY:Szalonegyetem
DESCRIPTION:Egy közelmúltban készült\,  átfogó európai felmérés szerint a közösségi éneklés az egyik legnagyobb létszámú európai szabadidős tevékenység\,  hazánk teljesen lakosságának is legalább 3%-a érintett. Milyen hagyományokkal rendelkezik a kórusban\,  közösségben éneklés földrészünkön? Mit énekelnek ma szívesen a fiatalok? Miért életbevágóan fontos az iskolai zeneoktatás? Miért egészséges az éneklés? Magyarország helye[..]\nhttps://kulturalisszalon.hu/events/szalonegyetem-11/
URL:https://kulturalisszalon.hu/events/szalonegyetem-11/
END:VEVENT
END:VCALENDAR