BEGIN:VCALENDAR
VERSION:2.0
PRODID:-//eventon.com NONSGML v1.0//EN
CALSCALE:GREGORIAN
METHOD:PUBLISH
BEGIN:VEVENT
UID:69e73275c712e
DTSTAMP:20260421T101653
DTSTART:20181114T140000Z
DTEND:20181114T153000Z
TZID:UTC
LOCATION:
SUMMARY:Szalonegyetem
DESCRIPTION:Korompay Klára\,  nyelvtörténész\,  Elte-Btk Kosztolányi Dezső és a magyar nyelv\nhttps://kulturalisszalon.hu/events/szalonegyetem-4/
URL:https://kulturalisszalon.hu/events/szalonegyetem-4/
END:VEVENT
END:VCALENDAR