BEGIN:VCALENDAR
VERSION:2.0
PRODID:-//eventon.com NONSGML v1.0//EN
CALSCALE:GREGORIAN
METHOD:PUBLISH
BEGIN:VEVENT
UID:69ecd72e521db
DTSTAMP:20260425T170102
DTSTART:20260610T143000Z
DTEND:20260610T160000Z
TZID:Africa/Abidjan
LOCATION:
SUMMARY:Szalonegyetem
DESCRIPTION:Ma is ámulatba ejtőek azok a grandiózus ünnepségek\,  melyek 1867 és 1945 között helyet kaptak hazánkban. Ezek közé tartoztak a millenniumi ünnepségek\,  IV. Károly király koronázása\,  a 34. Nemzetközi Eucharisztikus Kongresszus\,  vagy Horthy István kormányzóhelyettes esküvője. Kik és milyen koncepció szerint szervezték ezeket az eseményeket? Létezett-e már akkor is olyan[..]\nhttps://kulturalisszalon.hu/events/szalonegyetem-98/
URL:https://kulturalisszalon.hu/events/szalonegyetem-98/
END:VEVENT
END:VCALENDAR