BEGIN:VCALENDAR
VERSION:2.0
PRODID:-//eventon.com NONSGML v1.0//EN
CALSCALE:GREGORIAN
METHOD:PUBLISH
BEGIN:VEVENT
UID:69ecd71410c67
DTSTAMP:20260425T170036
DTSTART:20260612T190000Z
DTEND:20260612T203000Z
TZID:UTC
LOCATION:
SUMMARY:Donizetti humora- beavatunk Don Pasquale titkaiba
DESCRIPTION:Gaetano Donizetti Don Pasquale (1843) című vígoperája egy gazdag\,  idős agglegényről szól\,  aki meg akar nősülni\,  hogy megbüntesse unokaöccsét\,  Ernestót\,  amiért az egy szegény özvegyet (Norinát) akar elvenni. Malatesta doktor azonban rászedi Pasqualét egy álházassággal\,  amelyben Norina játssza a szelíd\,  majd elviselhetetlen feleséget\,  végül minden jóra fordul. Zongoránál: Csányi Valéria karmester és karvezető[..]\nhttps://kulturalisszalon.hu/events/donizetti-humora-beavatunk-don-pasquale-titkaiba/
URL:https://kulturalisszalon.hu/events/donizetti-humora-beavatunk-don-pasquale-titkaiba/
END:VEVENT
END:VCALENDAR