BEGIN:VCALENDAR
VERSION:2.0
PRODID:-//eventon.com NONSGML v1.0//EN
CALSCALE:GREGORIAN
METHOD:PUBLISH
BEGIN:VEVENT
UID:69ecd6503984a
DTSTAMP:20260425T165720
DTSTART:20260601T170000Z
DTEND:20260601T180000Z
TZID:UTC
LOCATION:
SUMMARY:Kedvenc Versed Klubja
DESCRIPTION:Mindenkinek biztosan van kedvenc verse\,  amely nagyon megérintette\,  fontos lett számára és maradandó élményt nyújtott egykor. Ha szeretné\,  hozza el a verset\,  hogy megossza velünk\,  elmondja nekünk\,  meséljen arról\,  hogy mi volt az\,  ami megfogta benne\,  miért szerette meg\,  hogy lett kedvence éppen az a vers. Lelassulunk\,  megpihenünk\,  hallgatunk\,  és[..]\nhttps://kulturalisszalon.hu/events/kedvenc-versed-klubja/
URL:https://kulturalisszalon.hu/events/kedvenc-versed-klubja/
END:VEVENT
END:VCALENDAR