BEGIN:VCALENDAR
VERSION:2.0
PRODID:-//eventon.com NONSGML v1.0//EN
CALSCALE:GREGORIAN
METHOD:PUBLISH
BEGIN:VEVENT
UID:69ecd77228d74
DTSTAMP:20260425T170210
DTSTART:20260519T160000Z
DTEND:20260519T173000Z
TZID:UTC
LOCATION:
SUMMARY:Önképzőkör — könyvképzőkör
DESCRIPTION:Csaknem unalomig ismerjük a tényt\,  hogy a mozgás fontos. Azt is tudjuk\,  hogy a testi fittség milyen kapcsolatban áll a hosszú és minőségi élettel\,  és hogy a legtöbbünk tehetne többet is önmagáért. Sőt: még azt is sejtjük\,  hogy hogyan tudnánk a fizikai edzettségünket növelni – még ha nem is okvetlenül[..]\nhttps://kulturalisszalon.hu/events/onkepzokor-konyvkepzokor-39/
URL:https://kulturalisszalon.hu/events/onkepzokor-konyvkepzokor-39/
END:VEVENT
END:VCALENDAR