BEGIN:VCALENDAR
VERSION:2.0
PRODID:-//eventon.com NONSGML v1.0//EN
CALSCALE:GREGORIAN
METHOD:PUBLISH
BEGIN:VEVENT
UID:69ecbf99bd3fd
DTSTAMP:20260425T152025
DTSTART:20260531T090000Z
DTEND:20260531T170000Z
TZID:UTC
LOCATION:
SUMMARY:Rambala Éva Erőszakmentes kommunikációs tréning: Mindennapi családi helyzetek-őszintén\,  empátiával
DESCRIPTION:A tréning ideje: 09.00-17.00 Volt már olyan\,  hogy egy apró helyzetből vita lett? Amikor mondani akartál valamit\,  mégis bántásként érkezett meg? Vagy inkább csendben maradtál\,  hogy elkerüld a feszültséget? Ez a tér neked szól\,  ha: – szeretnél kevesebb feszültséget és több örömteli pillanatot a családodban – fontos neked\,  hogy miközben[..]\nhttps://kulturalisszalon.hu/events/rambala-eva-eroszakmentes-kommunikacios-trening-mindennapi-csaladi-helyzetek-oszinten-empatiaval/
URL:https://kulturalisszalon.hu/events/rambala-eva-eroszakmentes-kommunikacios-trening-mindennapi-csaladi-helyzetek-oszinten-empatiaval/
END:VEVENT
END:VCALENDAR