BEGIN:VCALENDAR
VERSION:2.0
PRODID:-//eventon.com NONSGML v1.0//EN
CALSCALE:GREGORIAN
METHOD:PUBLISH
BEGIN:VEVENT
UID:69e8ce3c41c94
DTSTAMP:20260422T153348
DTSTART:20260501T160000Z
DTEND:20260501T164500Z
TZID:UTC
LOCATION:
SUMMARY:Kulturális séta a Böszörményi úton
DESCRIPTION:Május elsején kulturális sétára invitálja Hegyvidéki Önkormányzat az érdeklődőket a Park Étteremtől a Hegyvidék Galériáig. Könnyűzenei koncertek\,  kiállítások\,  színházi előadások\,  performanszok színesítik az egész napos programsorozatot\,  miközben a résztvevők megismerhetik és kipróbálhatják a Böszörményi út vendéglátóhelyeinek különleges kínálatát. Kellemes társaság\,  egy zongora\,  egy zongorista és megannyi elfeledettnek hitt\,  vagy épp[..]\nhttps://kulturalisszalon.hu/events/kulturalis-seta-a-boszormenyi-uton/
URL:https://kulturalisszalon.hu/events/kulturalis-seta-a-boszormenyi-uton/
END:VEVENT
END:VCALENDAR