BEGIN:VCALENDAR
VERSION:2.0
PRODID:-//eventon.com NONSGML v1.0//EN
CALSCALE:GREGORIAN
METHOD:PUBLISH
BEGIN:VEVENT
UID:69ecd76c887fc
DTSTAMP:20260425T170204
DTSTART:20260618T170000Z
DTEND:20260618T183000Z
TZID:UTC
LOCATION:
SUMMARY:„Árnyékok és színek alkotókör”
DESCRIPTION:Önképző alkotókör\,  14 éves kortól. Előképzettség nem szükséges\,  viszont főleg olyanok jelentkezését várjuk\,  akik hobbi szinten már foglalkoztak alkotással. Egy nagyszerű lehetőség\,  hogy 12 héten át elmerülj a színek és árnyékok világában! Az alkotókör során saját műveidet készítheted el inspiráló légkörben\,  miközben minden szükséges eszközt mi biztosítunk. Időpontok: (csütörtökönként): Június[..]\nhttps://kulturalisszalon.hu/events/arnyekok-es-szinek-alkotokor-11/
URL:https://kulturalisszalon.hu/events/arnyekok-es-szinek-alkotokor-11/
END:VEVENT
END:VCALENDAR