BEGIN:VCALENDAR
VERSION:2.0
PRODID:-//eventon.com NONSGML v1.0//EN
CALSCALE:GREGORIAN
METHOD:PUBLISH
BEGIN:VEVENT
UID:69ecd4384315f
DTSTAMP:20260425T164824
DTSTART:20260606T100000Z
DTEND:20260606T110000Z
TZID:UTC
LOCATION:
SUMMARY:Békakerekítő
DESCRIPTION:Csecsemőszínházi előadás a békákról\,  hárfás zenei kísérettel. Az előadás során elhangzanak ismertebb és talán kevésbé ismert gyerekmondókák\,  versikék és népdalok is\,  melyek mellett egyéb hangszerek is megszólalnak. Aprócska történet az élet körforgásáról: hogyan lesz egy csöppnyi buborékból élet\,  majd a növekedés és állandó fejlődés által vígan ugrándozó\,  kifejlődött béka\,  aki[..]\nhttps://kulturalisszalon.hu/events/bekakerekito/
URL:https://kulturalisszalon.hu/events/bekakerekito/
END:VEVENT
END:VCALENDAR