BEGIN:VCALENDAR
VERSION:2.0
PRODID:-//eventon.com NONSGML v1.0//EN
CALSCALE:GREGORIAN
METHOD:PUBLISH
BEGIN:VEVENT
UID:69ecd6feceae7
DTSTAMP:20260425T170014
DTSTART:20260513T190000Z
DTEND:20260513T203000Z
TZID:UTC
LOCATION:
SUMMARY:Vígh Anita: Apák Napja
DESCRIPTION:Az Apák napja két gyerekkori barátnő\,  Anett és Móni találkozását meséli el\,  akik 25 év után egy cukrászdában találkoznak újra. A Marcipán cukrászdában életük örömteli és fájdalmas eseményei elevenednek meg: közös emlékeik\,  édesapjuk elvesztése\,  és az a titok\,  amely egykor szétválasztotta őket. Ez a találkozás lehetőséget teremt arra is\,  hogy[..]\nhttps://kulturalisszalon.hu/events/vigh-anita-apak-napja/
URL:https://kulturalisszalon.hu/events/vigh-anita-apak-napja/
END:VEVENT
END:VCALENDAR