BEGIN:VCALENDAR
VERSION:2.0
PRODID:-//eventon.com NONSGML v1.0//EN
CALSCALE:GREGORIAN
METHOD:PUBLISH
BEGIN:VEVENT
UID:69ecc3898da76
DTSTAMP:20260425T153713
DTSTART:20260401T180000Z
DTEND:20260401T190000Z
TZID:UTC
LOCATION:
SUMMARY:Hangba zárt pillanat
DESCRIPTION:Vámosi-Nagy Zsuzsa fuvolaművész és Balog Zsolt zongoraművész 2009 óta kamaráznak együtt. Zenei partnerségük sikerességét számos &#8211; többek között a Magyar Rádió Márványtermében\,  a Dohnányi Ernő Zenei Központban\,  az Óbudai Társaskörben\,  a Bartók Emlékházban\,  A Régi Zeneakadémián illetve a Művészetek Palotája Üvegtermében adott &#8211; kamarahangversenyük\,  valamint a &#8222;Hangba zárt pillanat&#8221; című[..]\nhttps://kulturalisszalon.hu/events/hangba-zart-pillanat/
URL:https://kulturalisszalon.hu/events/hangba-zart-pillanat/
END:VEVENT
END:VCALENDAR