BEGIN:VCALENDAR
VERSION:2.0
PRODID:-//eventon.com NONSGML v1.0//EN
CALSCALE:GREGORIAN
METHOD:PUBLISH
BEGIN:VEVENT
UID:69ecac9349cfc
DTSTAMP:20260425T135915
DTSTART:20260410
DTEND:20260430
TZID:UTC
LOCATION:
SUMMARY:\, \, A Bóbitától A Teljesség felé”
DESCRIPTION:APS Fotóstúdió és az Irodalmi Szalon közös kiállításmegnyitója 04.10. 18.00 Kiállítók:  Abonyi Maya; Baán Kati; Csorba Károly; Dajka Margot; Fabó Kati; Király Erika; Kovács Judit; Kozma Cecília; Kőszegi Gábor; Laczkó &#8211; Magyar György; Óvári Mária; Szita László; Székelyné Opre Mária; Zács Ágoston A kiállítás április 29-ig tekinthető meg a programok függvényében.[..]\nhttps://kulturalisszalon.hu/events/a-bobitatol-a-teljesseg-fele/
URL:https://kulturalisszalon.hu/events/a-bobitatol-a-teljesseg-fele/
END:VEVENT
END:VCALENDAR