BEGIN:VCALENDAR
VERSION:2.0
PRODID:-//eventon.com NONSGML v1.0//EN
CALSCALE:GREGORIAN
METHOD:PUBLISH
BEGIN:VEVENT
UID:69ecc3a7e4397
DTSTAMP:20260425T153743
DTSTART:20260415T190000Z
DTEND:20260415T203000Z
TZID:UTC
LOCATION:
SUMMARY:ANALÍZIS #21. / KIÉGÉS
DESCRIPTION:Analízis (Társaság) &#8211; Irodalmi találkozások önmagammal – Juhász Anna (irodalmár) és Rácmolnár Lili (pszichológus) sorozata. Az Analízis irodalmi-pszichológiai estjein a legközösebb tapasztalásaink\,  az életünket meghatározó folyamatok\,  az elme állapotai kerülnek a fókuszba minden hónapban. Olyan kérdések\,  amiket sokszor elrejtünk\,  amiket nem merünk ki-vagy átbeszélni\,  amikről tabu beszélni\,  amik titkaink. A[..]\nhttps://kulturalisszalon.hu/events/analizis-21-kieges/
URL:https://kulturalisszalon.hu/events/analizis-21-kieges/
END:VEVENT
END:VCALENDAR