BEGIN:VCALENDAR
VERSION:2.0
PRODID:-//eventon.com NONSGML v1.0//EN
CALSCALE:GREGORIAN
METHOD:PUBLISH
BEGIN:VEVENT
UID:69ecbf98ece3a
DTSTAMP:20260425T152024
DTSTART:20260430T180000Z
DTEND:20260430T193000Z
TZID:UTC
LOCATION:
SUMMARY:Irodalmi Szalon
DESCRIPTION:Az Irodalmi Szalon a következő hónapokban izgalmas időutazást kínál. A tavalyi évet folytatva ebben az évben is a KORSTÍLUSOK időrendjébe sorolva villantja fel az Irodalmi Szalon az ismerős\,  vagy talán kevésbé ismerős műveket. Mi is az a KORSTÍLUS? Bizonyos korszakokban jellemző sajátosságok érvényesülnek valamennyi művészeti ágban: festészetben\,  építészetben\,  zenében. Sőt\,  azon túlmenően:[..]\nhttps://kulturalisszalon.hu/events/irodalmi-szalon-49/
URL:https://kulturalisszalon.hu/events/irodalmi-szalon-49/
END:VEVENT
END:VCALENDAR