BEGIN:VCALENDAR
VERSION:2.0
PRODID:-//eventon.com NONSGML v1.0//EN
CALSCALE:GREGORIAN
METHOD:PUBLISH
BEGIN:VEVENT
UID:69ecc34c43f60
DTSTAMP:20260425T153612
DTSTART:20260409T180000Z
DTEND:20260409T193000Z
TZID:UTC
LOCATION:
SUMMARY:Dr. Domján Mihály: Segítő kéz a családban
DESCRIPTION:Egy elengedés küszöbén sokfajta kérdés cikázhat az emberben. Rengeteg érzelem “düböröghet” odabent\,  miközben még jobban tanácstalanná válhatunk. Az előadásban azokat a lehetőségeket járnám körül\,  amelyek segíthetnek a belső világunkra való ráhangolódásra és így a megalapozott döntés meghozatalára. Számos kapcsolatnak\,  helyzetnek és várakozásnak a lezárása válhat embert próbáló szituációvá. Feladjam? Megfutamodjak?[..]\nhttps://kulturalisszalon.hu/events/dr-domjan-mihaly-segito-kez-a-csaladban-2/
URL:https://kulturalisszalon.hu/events/dr-domjan-mihaly-segito-kez-a-csaladban-2/
END:VEVENT
END:VCALENDAR