BEGIN:VCALENDAR
VERSION:2.0
PRODID:-//eventon.com NONSGML v1.0//EN
CALSCALE:GREGORIAN
METHOD:PUBLISH
BEGIN:VEVENT
UID:69ecc389928de
DTSTAMP:20260425T153713
DTSTART:20260418T093000Z
DTEND:20260418T120000Z
TZID:UTC
LOCATION:
SUMMARY:A rakoncátlan nyúlgyerek interaktív bábelőadás a Batyu Színház előadásában
DESCRIPTION:A húsvéti nyúlfi inkább játszani és csavarogni szeretne\,  mint dolgozni\,  de útja során megtanulja\,  hogy csak az tud igazán örülni a pihenésnek\,  aki előbb elvégezte a feladatát. Interaktív\,  zenés\,  beszélgetős előadás\,  ahol a gyerekek tanácsaikkal segíthetik a kis nyulat\,  hogy végül megtalálja a helyes utat. Ajánlott korosztály: óvodás és kisiskolás[..]\nhttps://kulturalisszalon.hu/events/a-rakoncatlan-nyulgyerek-interaktiv-babeloadas-a-batyu-szinhaz-eloadasaban/
URL:https://kulturalisszalon.hu/events/a-rakoncatlan-nyulgyerek-interaktiv-babeloadas-a-batyu-szinhaz-eloadasaban/
END:VEVENT
END:VCALENDAR