BEGIN:VCALENDAR
VERSION:2.0
PRODID:-//eventon.com NONSGML v1.0//EN
CALSCALE:GREGORIAN
METHOD:PUBLISH
BEGIN:VEVENT
UID:69e732d130dc0
DTSTAMP:20260421T101825
DTSTART:20260323T183000Z
DTEND:20260323T200000Z
TZID:UTC
LOCATION:
SUMMARY:Csoportos hangfürdő
DESCRIPTION:Vezeti Dr. Bogdán Dóra hangterapeuta. A hangfürdőre kérjük\,  hozzon magával egy jógamatracot\,  vagy polifoam-ot\,  egy kényelmes párnát\,  egy puha plédet és szükség esetén egy szemtakarót – a hangfürdőhöz nem tudunk eszközöket biztosítani.\nhttps://kulturalisszalon.hu/events/csoportos-hangfurdo-10/
URL:https://kulturalisszalon.hu/events/csoportos-hangfurdo-10/
END:VEVENT
END:VCALENDAR