BEGIN:VCALENDAR
VERSION:2.0
PRODID:-//eventon.com NONSGML v1.0//EN
CALSCALE:GREGORIAN
METHOD:PUBLISH
BEGIN:VEVENT
UID:69ed3c1d8a448
DTSTAMP:20260426T001141
DTSTART:20260205T170000Z
DTEND:20260205T190000Z
TZID:Africa/Abidjan
LOCATION:
SUMMARY:FÉRFI SUTYORGÓ – KIMONDATLAN ÜGYEK
DESCRIPTION:Rengeteg  téma van\,  amiről a férfiak „valahogy” nem beszélnek. Nem azért\,  mert nincs mit mondani\,  hanem mert sokszor nincs hol\,  nincs kivel\,  és nem tudjuk hogyan? Közben a következmények valósak: a mentális terhek\,  a kiégés\,  a magány\,  a kapcsolati elakadások &#8211; mind-mind valós problémák. A Férfi sutyorgó azért jön létre\, [..]\nhttps://kulturalisszalon.hu/events/ferfi-sutyorgo-kimondatlan-ugyek/
URL:https://kulturalisszalon.hu/events/ferfi-sutyorgo-kimondatlan-ugyek/
END:VEVENT
END:VCALENDAR