BEGIN:VCALENDAR
VERSION:2.0
PRODID:-//eventon.com NONSGML v1.0//EN
CALSCALE:GREGORIAN
METHOD:PUBLISH
BEGIN:VEVENT
UID:69ed3c392c091
DTSTAMP:20260426T001209
DTSTART:20260205T173000Z
DTEND:20260205T183000Z
TZID:UTC
LOCATION:
SUMMARY:Összhangban a testeddel – jóga minden korosztálynak nyílt nap
DESCRIPTION:Napjaink során számos inger\,  kihívás és feszültség ér bennünket\,  amelyek könnyen kizökkenthetnek az egyensúlyunkból. A jóga segít abban\,  hogy lelassuljunk\,  befelé figyeljünk\,  és kapcsolódjunk önmagunkhoz. Az óráimon egy biztonságos\,  támogató térben mozgatjuk át a nap során leterhelt testünket\,  finoman erősítjük izmainkat\,  majd relaxációval zárjuk a gyakorlást.  Kiemelt figyelmet fordítunk a gerinc[..]\nhttps://kulturalisszalon.hu/events/osszhangban-a-testeddel-joga-minden-korosztalynak-nyilt-nap/
URL:https://kulturalisszalon.hu/events/osszhangban-a-testeddel-joga-minden-korosztalynak-nyilt-nap/
END:VEVENT
END:VCALENDAR