BEGIN:VCALENDAR
VERSION:2.0
PRODID:-//eventon.com NONSGML v1.0//EN
CALSCALE:GREGORIAN
METHOD:PUBLISH
BEGIN:VEVENT
UID:69ed3c874779c
DTSTAMP:20260426T001327
DTSTART:20260203T190000Z
DTEND:20260203T200000Z
TZID:UTC
LOCATION:
SUMMARY:Hastánc nyílt nap
DESCRIPTION:Hozd magad formába a hastánc segítségével! Mi a hastánc? A hastánc (Raks Sharki) egy csodálatos\,  nőies keleti táncstílus\,  amely rendkívül jótékony hatást gyakorol testileg és lelkileg egyaránt. Kecsesen lágy\,  vagy éppen dinamikus mozdulatai segítenek megélni\,  kibontakozni a nőiességet. Mire jó? Ortopéd orvosok ajánlják a hastáncot. Javítja a testtartást\,  fejleszti az[..]\nhttps://kulturalisszalon.hu/events/hastanc-nyilt-nap/
URL:https://kulturalisszalon.hu/events/hastanc-nyilt-nap/
END:VEVENT
END:VCALENDAR