BEGIN:VCALENDAR
VERSION:2.0
PRODID:-//eventon.com NONSGML v1.0//EN
CALSCALE:GREGORIAN
METHOD:PUBLISH
BEGIN:VEVENT
UID:69ecdc8d0560c
DTSTAMP:20260425T172357
DTSTART:20260311T143000Z
DTEND:20260311T160000Z
TZID:Africa/Abidjan
LOCATION:
SUMMARY:Szalonegyetem
DESCRIPTION:Az előadás Johann Sebastian Bach rendkívüli intenzitású életművét veszi górcső alá. Fény derül a zeneszerző alkotói döntéseinek mozgatórugóira\,  melyeket a hagyományos muzikológia nem tud megmagyarázni. A megszokott kutatási tematikáktól eltérően gondolatébresztő megközelítési irányokat kap a hallgatóság. Az elhangzó elméleti érveket és felvetéseket számos zenei illusztráció teszi majd szemléletessé és átélhetővé.[..]\nhttps://kulturalisszalon.hu/events/szalonegyetem-92/
URL:https://kulturalisszalon.hu/events/szalonegyetem-92/
END:VEVENT
END:VCALENDAR