BEGIN:VCALENDAR
VERSION:2.0
PRODID:-//eventon.com NONSGML v1.0//EN
CALSCALE:GREGORIAN
METHOD:PUBLISH
BEGIN:VEVENT
UID:69ed260e25e5b
DTSTAMP:20260425T223734
DTSTART:20260224T180000Z
DTEND:20260224T200000Z
TZID:Europe/Budapest
LOCATION:
SUMMARY:A Középső Birodalom 3500 éves kultúrája - Ismerkedés Kínával II.
DESCRIPTION:Kína arany- és ezüstkorát követően drámai fordulat következett be: közel száz évre mongol uralom alá került a Középső Birodalom\,  ekkor épült a legendás Xanadu. Majd színre lépett az utolsó Han kínai dinasztia\,  felépült a pekingi Tiltott Város és a Nagy Fal legtöbb ma látható része\,  és Európa is beleszeretett a[..]\nhttps://kulturalisszalon.hu/events/a-kozepso-birodalom-3500-eves-kulturaja-ismerkedes-kinaval-ii/
URL:https://kulturalisszalon.hu/events/a-kozepso-birodalom-3500-eves-kulturaja-ismerkedes-kinaval-ii/
END:VEVENT
END:VCALENDAR