BEGIN:VCALENDAR
VERSION:2.0
PRODID:-//eventon.com NONSGML v1.0//EN
CALSCALE:GREGORIAN
METHOD:PUBLISH
BEGIN:VEVENT
UID:69ed266e8e070
DTSTAMP:20260425T223910
DTSTART:20260224T163000Z
DTEND:20260224T180000Z
TZID:UTC
LOCATION:
SUMMARY:Jókai növény és kertbarát klub
DESCRIPTION:Télvégi növényes kerti teendők Miből lehet bor? &nbsp; &nbsp; &nbsp; &nbsp; kép forrása: https://plantgrow.co.uk/ Télvégi növényes kerti teendőkSzékely András borász technikus Környezetet és embert is kímélő talajművelések\,  helybevetések A kör vezetője: Ónodi Szabó Sándor nyugdíjas kertész oktató. Ingyenes\nhttps://kulturalisszalon.hu/events/jokai-noveny-es-kertbarat-klub-20/
URL:https://kulturalisszalon.hu/events/jokai-noveny-es-kertbarat-klub-20/
END:VEVENT
END:VCALENDAR