BEGIN:VCALENDAR
VERSION:2.0
PRODID:-//eventon.com NONSGML v1.0//EN
CALSCALE:GREGORIAN
METHOD:PUBLISH
BEGIN:VEVENT
UID:69ecdcf1de36a
DTSTAMP:20260425T172537
DTSTART:20260316T150000Z
DTEND:20260316T160000Z
TZID:UTC
LOCATION:
SUMMARY:Játékklub szenioroknak!
DESCRIPTION:A játék korhatár nélküli! Fejleszti a problémamegoldó képességet\,  karbantartja a memóriát. Segíti megtartani a szellemi frissességet és jótékonyan hat a közérzetre. Aki eljön\,  részese lehet egyéni\,  páros vagy társas szellemi és ügyességi játékoknak Élj a lehetőséggel! Gyere és játssz! A foglalkozást vezeti: Csókás Viki\nhttps://kulturalisszalon.hu/events/jatekklub-szenioroknak-11/
URL:https://kulturalisszalon.hu/events/jatekklub-szenioroknak-11/
END:VEVENT
END:VCALENDAR