BEGIN:VCALENDAR
VERSION:2.0
PRODID:-//eventon.com NONSGML v1.0//EN
CALSCALE:GREGORIAN
METHOD:PUBLISH
BEGIN:VEVENT
UID:69ed26455ab5b
DTSTAMP:20260425T223829
DTSTART:20260225T143000Z
DTEND:20260225T160000Z
TZID:Africa/Abidjan
LOCATION:
SUMMARY:Szalonegyetem
DESCRIPTION:A magyar bábjáték lenyűgöző útját a vásári vándorbábosok világától és Vitéz László alakjától indulva\,  a Városligeten át egészen a modern színpadokig mutatja be az előadás. Az Állami Bábszínház azon felejthetetlen figuráival találkozhatunk\,  akik már generációk óta a szívünkben élnek. Gazdag képanyag által nemcsak a múlt emlékei elevenednek meg\,  hanem a[..]\nhttps://kulturalisszalon.hu/events/szalonegyetem-91/
URL:https://kulturalisszalon.hu/events/szalonegyetem-91/
END:VEVENT
END:VCALENDAR