BEGIN:VCALENDAR
VERSION:2.0
PRODID:-//eventon.com NONSGML v1.0//EN
CALSCALE:GREGORIAN
METHOD:PUBLISH
BEGIN:VEVENT
UID:69ed3c3947360
DTSTAMP:20260426T001209
DTSTART:20260212T180000Z
DTEND:20260212T193000Z
TZID:UTC
LOCATION:
SUMMARY:Dr. Domján Mihály: Segítő kéz a családban
DESCRIPTION:A szeretet\,  mint emberi szükséglet: minden emberben benne van. A többség valóban arra vágyik\,  hogy szeressék\,  örüljenek neki\,  megbecsüljék\,  ugyanakkor arra is\,  hogy tudjon “jól” adni. Gary Chapman\,  amerikai párkapcsolati tanácsadó öt szeretetnyelvről beszél\,  azaz szerinte öt fő módja van annak\,  ahogyan kifejezhetjük egymás felé a szeretetet. Ezek a következők:[..]\nhttps://kulturalisszalon.hu/events/dr-domjan-mihaly-segito-kez-a-csaladban/
URL:https://kulturalisszalon.hu/events/dr-domjan-mihaly-segito-kez-a-csaladban/
END:VEVENT
END:VCALENDAR