BEGIN:VCALENDAR
VERSION:2.0
PRODID:-//eventon.com NONSGML v1.0//EN
CALSCALE:GREGORIAN
METHOD:PUBLISH
BEGIN:VEVENT
UID:69ed3be898c9a
DTSTAMP:20260426T001048
DTSTART:20260214T093000Z
DTEND:20260214T120000Z
TZID:UTC
LOCATION:
SUMMARY:Lóca együttes - Itt a farsang áll a bál...
DESCRIPTION:A Lóca együttes 2010-ben alakult Kecskeméten. Interaktív előadásaik ismert gyermekdalokra\,  népdalokra\,  népzenei feldolgozásokra\,  mondókákra\,  játékokra és saját szerzeményekre épülnek\,  így a gyermekek gyorsan és szívesen bekapcsolódnak műsoraikba. Koncertjeik egy része az év jeles napjaihoz kötődve aktualitásokat hordoz\,  más részük olyan zenés mesejáték\,  mely mindig időszerű tanulságokat vonultat fel. Dalaikat és[..]\nhttps://kulturalisszalon.hu/events/loca-egyuttes-itt-a-farsang-all-a-bal/
URL:https://kulturalisszalon.hu/events/loca-egyuttes-itt-a-farsang-all-a-bal/
END:VEVENT
END:VCALENDAR