BEGIN:VCALENDAR
VERSION:2.0
PRODID:-//eventon.com NONSGML v1.0//EN
CALSCALE:GREGORIAN
METHOD:PUBLISH
BEGIN:VEVENT
UID:69ed3bd6a80b6
DTSTAMP:20260426T001030
DTSTART:20260217T160000Z
DTEND:20260217T173000Z
TZID:UTC
LOCATION:
SUMMARY:Önképzőkör — könyvképzőkör
DESCRIPTION:„… munkáját agyonhallgatták\,  mintha nem is lett volna” Fiatalon megkötött\,  mindvégig boldog házasságnak vetett véget a férj hirtelen halála. Harminchárom évet töltöttek szellemi és lelki közösségben\,  Sarolta 54 évesen vesztette el 57 éves férjét. A magyar kultúra történetében óriási szerepet betöltő és hatalmas munkát elvégző művelődéspolitikusról\,  vallás- és közoktatásügyi miniszterről\, [..]\nhttps://kulturalisszalon.hu/events/onkepzokor-konyvkepzokor-37/
URL:https://kulturalisszalon.hu/events/onkepzokor-konyvkepzokor-37/
END:VEVENT
END:VCALENDAR