BEGIN:VCALENDAR
VERSION:2.0
PRODID:-//eventon.com NONSGML v1.0//EN
CALSCALE:GREGORIAN
METHOD:PUBLISH
BEGIN:VEVENT
UID:69ed3c8740d07
DTSTAMP:20260426T001327
DTSTART:20260206T170000Z
DTEND:20260206T183000Z
TZID:UTC
LOCATION:
SUMMARY:Veronika Berger Mezei: Concerto Italiano II.
DESCRIPTION:Concerto Italiano címmel egy kellemes zenés délutánt tölthetnek Veronika Berger Mezei magyar-olasz énekesnővel. A zenés itáliai séta pontosan ezt kínálja Önöknek: egy felejthetetlen zenei utazást Itália szívébe. Olasz tájak hangulatai\,  az MZÉ egyesület Énekkara közreműködésével Veronika Berger (Mezei Anikó) Mezei Anikó Budapesten született\,  ahol zenei tanulmányait kezdi és diplomáit szerzi[..]\nhttps://kulturalisszalon.hu/events/veronika-berger-mezei-concerto-italiano-ii/
URL:https://kulturalisszalon.hu/events/veronika-berger-mezei-concerto-italiano-ii/
END:VEVENT
END:VCALENDAR