BEGIN:VCALENDAR
VERSION:2.0
PRODID:-//eventon.com NONSGML v1.0//EN
CALSCALE:GREGORIAN
METHOD:PUBLISH
BEGIN:VEVENT
UID:69ececa7ebba3
DTSTAMP:20260425T183239
DTSTART:20260225T193000Z
DTEND:20260225T210000Z
TZID:UTC
LOCATION:
SUMMARY:ANALÍZIS # 19 / SZÉGYEN
DESCRIPTION:ÚJ KEZDÉSI IDŐPONT: 19.30 Az Analízis irodalmi-pszichológiai estjein a legközösebb tapasztalásaink\,  az életünket meghatározó folyamatok\,  az elme állapotai kerülnek a fókuszba minden hónapban. Olyan kérdések\,  amiket sokszor elrejtünk\,  amiket nem merünk ki-vagy átbeszélni\,  amikről tabu beszélni\,  amik titkaink. A sorozat 2025. márciusától a Hegyvidéki Kulturális Szalonban kerül megrendezésre. A 2026.[..]\nhttps://kulturalisszalon.hu/events/analizis-19-szegyen/
URL:https://kulturalisszalon.hu/events/analizis-19-szegyen/
END:VEVENT
END:VCALENDAR